BEGIN:VCALENDAR
VERSION:2.0
PRODID:-//Welcome Home - ECPv6.15.20//NONSGML v1.0//EN
CALSCALE:GREGORIAN
METHOD:PUBLISH
X-ORIGINAL-URL:https://www.welcomeveterans.org
X-WR-CALDESC:Events for Welcome Home
REFRESH-INTERVAL;VALUE=DURATION:PT1H
X-Robots-Tag:noindex
X-PUBLISHED-TTL:PT1H
BEGIN:VTIMEZONE
TZID:America/Chicago
BEGIN:DAYLIGHT
TZOFFSETFROM:-0600
TZOFFSETTO:-0500
TZNAME:CDT
DTSTART:20230312T080000
END:DAYLIGHT
BEGIN:STANDARD
TZOFFSETFROM:-0500
TZOFFSETTO:-0600
TZNAME:CST
DTSTART:20231105T070000
END:STANDARD
BEGIN:DAYLIGHT
TZOFFSETFROM:-0600
TZOFFSETTO:-0500
TZNAME:CDT
DTSTART:20240310T080000
END:DAYLIGHT
BEGIN:STANDARD
TZOFFSETFROM:-0500
TZOFFSETTO:-0600
TZNAME:CST
DTSTART:20241103T070000
END:STANDARD
BEGIN:DAYLIGHT
TZOFFSETFROM:-0600
TZOFFSETTO:-0500
TZNAME:CDT
DTSTART:20250309T080000
END:DAYLIGHT
BEGIN:STANDARD
TZOFFSETFROM:-0500
TZOFFSETTO:-0600
TZNAME:CST
DTSTART:20251102T070000
END:STANDARD
END:VTIMEZONE
BEGIN:VEVENT
DTSTART;TZID=America/Chicago:20240518T103000
DTEND;TZID=America/Chicago:20240518T163000
DTSTAMP:20260421T200754
CREATED:20240329T181121Z
LAST-MODIFIED:20240329T181221Z
UID:23845-1716028200-1716049800@www.welcomeveterans.org
SUMMARY:Band of Brothers Patriot Poker Run - May 18\, 2024
DESCRIPTION:Join us for Celebrity Bartender Night with Ross Bridges & Jared Vessell!				\n				\n				\n				\n									When: Saturday\, February 7th\, 2026\, 5pm – 9pm Where: Pierpont General Bar We will have Ross Bridges & Jared Vessell from Vessell Bridges Murphy Law Offices behind the bar knocking out some amazing cocktails to raise money for Welcome Home! Were excited to get our celebrity bartending events underway and will post a complete schedule soon!  
URL:https://www.welcomeveterans.org/event/band-of-brothers-patriot-poker-run-may-18-2024/
LOCATION:Jake’s Bar & Grill
CATEGORIES:Event,On Homepage
END:VEVENT
END:VCALENDAR