BEGIN:VCALENDAR
VERSION:2.0
PRODID:-//Welcome Home - ECPv6.15.20//NONSGML v1.0//EN
CALSCALE:GREGORIAN
METHOD:PUBLISH
X-WR-CALNAME:Welcome Home
X-ORIGINAL-URL:https://www.welcomeveterans.org
X-WR-CALDESC:Events for Welcome Home
REFRESH-INTERVAL;VALUE=DURATION:PT1H
X-Robots-Tag:noindex
X-PUBLISHED-TTL:PT1H
BEGIN:VTIMEZONE
TZID:America/Chicago
BEGIN:DAYLIGHT
TZOFFSETFROM:-0600
TZOFFSETTO:-0500
TZNAME:CDT
DTSTART:20240310T080000
END:DAYLIGHT
BEGIN:STANDARD
TZOFFSETFROM:-0500
TZOFFSETTO:-0600
TZNAME:CST
DTSTART:20241103T070000
END:STANDARD
BEGIN:DAYLIGHT
TZOFFSETFROM:-0600
TZOFFSETTO:-0500
TZNAME:CDT
DTSTART:20250309T080000
END:DAYLIGHT
BEGIN:STANDARD
TZOFFSETFROM:-0500
TZOFFSETTO:-0600
TZNAME:CST
DTSTART:20251102T070000
END:STANDARD
BEGIN:DAYLIGHT
TZOFFSETFROM:-0600
TZOFFSETTO:-0500
TZNAME:CDT
DTSTART:20260308T080000
END:DAYLIGHT
BEGIN:STANDARD
TZOFFSETFROM:-0500
TZOFFSETTO:-0600
TZNAME:CST
DTSTART:20261101T070000
END:STANDARD
END:VTIMEZONE
BEGIN:VEVENT
DTSTART;TZID=America/Chicago:20251107T180000
DTEND;TZID=America/Chicago:20251107T220000
DTSTAMP:20260420T095650
CREATED:20250113T221731Z
LAST-MODIFIED:20250929T183238Z
UID:24141-1762538400-1762552800@www.welcomeveterans.org
SUMMARY:10th Annual Welcome Home Casino Night - November 7\, 2025
DESCRIPTION:Join us for Celebrity Bartender Night with Ross Bridges & Jared Vessell!				\n				\n				\n				\n									When: Saturday\, February 7th\, 2026\, 5pm – 9pm Where: Pierpont General Bar We will have Ross Bridges & Jared Vessell from Vessell Bridges Murphy Law Offices behind the bar knocking out some amazing cocktails to raise money for Welcome Home! Were excited to get our celebrity bartending events underway and will post a complete schedule soon!  
URL:https://www.welcomeveterans.org/event/10th-annual-welcome-home-casino-night-november-7-2025/
LOCATION:The Crossing\, 3615 Southland Drive\, Columbia\, 65201\, United States
CATEGORIES:Event,On Homepage
ATTACH;FMTTYPE=image/png:https://www.welcomeveterans.org/wp-content/uploads/2025/01/CN25_FINAL.png
END:VEVENT
END:VCALENDAR